BEGIN:VCALENDAR
VERSION:2.0
PRODID:-//Montessori Care - ECPv6.15.18//NONSGML v1.0//EN
CALSCALE:GREGORIAN
METHOD:PUBLISH
X-WR-CALNAME:Montessori Care
X-ORIGINAL-URL:https://montessori-care.com
X-WR-CALDESC:Events for Montessori Care
REFRESH-INTERVAL;VALUE=DURATION:PT1H
X-Robots-Tag:noindex
X-PUBLISHED-TTL:PT1H
BEGIN:VTIMEZONE
TZID:Europe/Oslo
BEGIN:DAYLIGHT
TZOFFSETFROM:+0100
TZOFFSETTO:+0200
TZNAME:CEST
DTSTART:20230326T010000
END:DAYLIGHT
BEGIN:STANDARD
TZOFFSETFROM:+0200
TZOFFSETTO:+0100
TZNAME:CET
DTSTART:20231029T010000
END:STANDARD
BEGIN:DAYLIGHT
TZOFFSETFROM:+0100
TZOFFSETTO:+0200
TZNAME:CEST
DTSTART:20240331T010000
END:DAYLIGHT
BEGIN:STANDARD
TZOFFSETFROM:+0200
TZOFFSETTO:+0100
TZNAME:CET
DTSTART:20241027T010000
END:STANDARD
BEGIN:DAYLIGHT
TZOFFSETFROM:+0100
TZOFFSETTO:+0200
TZNAME:CEST
DTSTART:20250330T010000
END:DAYLIGHT
BEGIN:STANDARD
TZOFFSETFROM:+0200
TZOFFSETTO:+0100
TZNAME:CET
DTSTART:20251026T010000
END:STANDARD
BEGIN:DAYLIGHT
TZOFFSETFROM:+0100
TZOFFSETTO:+0200
TZNAME:CEST
DTSTART:20260329T010000
END:DAYLIGHT
BEGIN:STANDARD
TZOFFSETFROM:+0200
TZOFFSETTO:+0100
TZNAME:CET
DTSTART:20261025T010000
END:STANDARD
END:VTIMEZONE
BEGIN:VEVENT
DTSTART;TZID=Europe/Oslo:20250610T170000
DTEND;TZID=Europe/Oslo:20250610T190000
DTSTAMP:20260423T110817
CREATED:20250510T074045Z
LAST-MODIFIED:20250514T084141Z
UID:2373-1749574800-1749582000@montessori-care.com
SUMMARY:Boklansering og workshop - 10. juni
DESCRIPTION:🎉 Endelig boklansering! Velkommen til feiring og faglig påfyll 📚✨ \nVi er utrolig glade for å endelig kunne invitere deg til boklanseringen av Montessori Miljøbehandling: Mening\, Mestring og Glede for Personer med Demens! 🥳📖 \n📍 Hvor? Berner-kjelleren\, Litteraturhuset\, Wergelandsveien 29\, Oslo\n📅 Når? Tirsdag 10. juni 2025\n🕔 Tid? Kl. 17:00–19:00 \nDette blir en kveld fylt med inspirasjon\, faglig påfyll og feiring av vårt arbeid med å bringe Montessori-metoden inn i omsorgen for personer med demens. 💙 \nMen det stopper ikke der! Samme dag inviterer vi til en “hands-on” workshop\, der du får prøve ut Montessori-materiell spesielt utviklet for personer med demens. \n🔹 Workshop: Kl. 12:00–16:00\n💰 Pris: 300\,- (kaffe\, te\, pausemat kan kjøpes i baren på første etasje) \nKjøp Workshop-plass\n  \nVi gleder oss til å dele denne reisen med deg – håper vi sees! 🥰 \nElisabeth og Carolyn
URL:https://montessori-care.com/event/boklansering-og-workshop-10-juni/
ATTACH;FMTTYPE=image/jpeg:https://montessori-care.com/wp-content/uploads/2025/03/9AED2A03-96B0-42C1-B25E-83BFB500115054.jpeg
END:VEVENT
BEGIN:VEVENT
DTSTART;TZID=Europe/Oslo:20250610T120000
DTEND;TZID=Europe/Oslo:20250610T160000
DTSTAMP:20260423T110817
CREATED:20250510T065600Z
LAST-MODIFIED:20250514T084706Z
UID:2370-1749556800-1749571200@montessori-care.com
SUMMARY:Workshop om Montessori Miljøbehandling 10. juni 2025 - Kun 300\,-
DESCRIPTION:Samme dag som boklanseringen\, inviterer vi til en «hands-on» workshop\, der du får prøve ut Montessori-materiell spesielt utviklet for personer med demens. \n🔹 Workshop: Kl. 12:00–16:00\n💰 Spesialpris: 300\,- (kaffe\, te\, pause-mat kan kjøpes i baren på første etasje om ønskelig)\nSted: Berner-kjelleren på Litteraturhuset\, Wergelandsveien 29\, Oslo\nGave: Alle som melder seg før 1. april går en gratis Montessori Miljøbehandling bok!! \nKan ikke vente til juni? I tillegg tilbyr vi en fordypende introduksjon til Montessori Miljøbehandling\, hvor du får grunnlaget for å lykkes i praksis. Dette kurset gir både en teoretisk innføring og hands-on erfaring med materiell. \nPåmelding\nØnsker du faktura? Send e-post til post@montessori-care.com
URL:https://montessori-care.com/event/workshop-om-montessori-miljobehandling-10-juni-2025-2/
ATTACH;FMTTYPE=image/jpeg:https://montessori-care.com/wp-content/uploads/2025/05/Montessori-Workshop.jpg
END:VEVENT
BEGIN:VEVENT
DTSTART;TZID=Europe/Oslo:20250429T093000
DTEND;TZID=Europe/Oslo:20250429T143000
DTSTAMP:20260423T110817
CREATED:20250221T152848Z
LAST-MODIFIED:20250325T213634Z
UID:2170-1745919000-1745937000@montessori-care.com
SUMMARY:Introduksjon til Montessori Miljøbehandling
DESCRIPTION:På kurset lærer du grunnpilarene i Montessori Miljøbehandling og hvordan du kan tilrettelegge for meningsfullt engasjement samt støtte selvstendighet hos personer med demens. \n\n\n\nDu vil få praktisk kunnskap om hvordan du kan utvikle roller\, aktiviteter\, lesemateriell og tilrettelegge for “wayfinding” – slik at personer med demens lettere kan orientere seg og mestre hverdagen. 🧩📖🚶‍♂️ \n\n\n\n✨ Mest av alt gir kurset omsorgspersoner en verktøykasse full av muligheter! ✨ \n\n\n\nDu lærer hvordan du kan hjelpe personer med demens til å delta i aktiviteter som matcher deres kognitive nivå og personlige interesser – ekte personsentrert omsorg i praksis! 🧡🧩 \n\n\n\n🎥 Vil du vite mer? Se dette intervjuet med kursholder Carolyn Magnussen eller utforsk inspirerende videoer fra institusjoner som allerede bruker Montessori Miljøbehandling i hverdagen. \n\n\n\n\n \n\n\n⚠️ Begrenset plass! Meld deg på nå! ✅tirsdag 29. april 2025\nkl. 09.30-14.30\nBerner-kjelleren på Litteraturhuset i Wergelandsveien 29\nKjøp billetter
URL:https://montessori-care.com/event/introduksjon-til-montessori-miljobehandling/
LOCATION:Litteraturhuset\, Wergelandsveien 29\, Oslo\, 0167
ATTACH;FMTTYPE=image/jpeg:https://montessori-care.com/wp-content/uploads/2025/02/Kursbillett-produktbilde.jpg
END:VEVENT
BEGIN:VEVENT
DTSTART;TZID=Europe/Oslo:20250429T093000
DTEND;TZID=Europe/Oslo:20250429T143000
DTSTAMP:20260423T110817
CREATED:20250221T152848Z
LAST-MODIFIED:20250303T223039Z
UID:2199-1745919000-1745937000@montessori-care.com
SUMMARY:Introduction to Montessori Environmental Therapy
DESCRIPTION:In this course\, you will learn the fundamental principles of Montessori Environmental Therapy and how to facilitate meaningful engagement while supporting independence in people with dementia. \n\n\nYou will gain practical knowledge on how to develop roles\, activities\, reading materials\, and “wayfinding” strategies—helping people with dementia navigate their surroundings and manage daily life more easily. 🧩📖🚶‍♂️  \n\n\n✨ Most importantly\, this course provides caregivers with a toolbox full of possibilities! ✨ \n\n\nYou will learn how to help people with dementia participate in activities that align with their cognitive level and personal interests—true person-centered care in action! 🧡🧩  \n\n\n🎥 Want to learn more? Watch this interview with course instructor Carolyn Magnussen\, or explore inspiring videos from institutions already using Montessori Environmental Therapy in their daily routines. \n\n\n\n \n\n⚠️ Space is limited! Sign up now ✅ \nTuesday 29. april 2025\nkl. 09.30-14.30 \nBuy tickets
URL:https://montessori-care.com/event/introduction-to-montessori-environmental-therapy/
LOCATION:Litteraturhuset\, Wergelandsveien 29\, Oslo\, 0167
ATTACH;FMTTYPE=image/jpeg:https://montessori-care.com/wp-content/uploads/2025/02/Kursbillett-produktbilde.jpg
END:VEVENT
BEGIN:VEVENT
DTSTART;TZID=Europe/Oslo:20240610T120000
DTEND;TZID=Europe/Oslo:20240610T160000
DTSTAMP:20260423T110817
CREATED:20230430T162939Z
LAST-MODIFIED:20240111T121322Z
UID:1388-1718020800-1718035200@montessori-care.com
SUMMARY:PROCEDURE COURSE FOR RELATIVES OF PERSONS WITH DEMENTIA 16. April Evening
DESCRIPTION:We have received many inquiries from relatives who want tips and ideas for what meaningful activities they can offer at home\, and how they can facilitate the greatest possible independence. \nWe will therefore hold a next-of-kin course four times during the spring of 2024. Relatives are invited to our premises where you will get many ideas for various activities and roles that can be adapted to people with dementia in relation to coping and skill levels and that can be arranged based on interests. You will also get tips on how to sign and mark at home to support the greatest possible degree of independence and self-mastery. \nTHE JOY DO-COURSE\nDuration: 3 hours \nLocation: Hovseter\, Oslo \nChoose the date that suits you best: \n\nApril 16th: at 12:00 – 15:00\nApril 16th: at 17:00 – 20:00\nApril 23rd at 09:00 – 12:00\n\nSimple serving. \nYou receive a small activity gift that you can enjoy using at home. \nCourse fee:\nNOK 600.- \nExclusive course with a limited number of places. \nTo Vipps payment
URL:https://montessori-care.com/event/procedure-course-for-relatives-of-persons-with-dementia-15-february/
ATTACH;FMTTYPE=image/jpeg:https://montessori-care.com/wp-content/uploads/2023/05/Featured-image-2.jpg
END:VEVENT
BEGIN:VEVENT
DTSTART;TZID=Europe/Oslo:20240423T090000
DTEND;TZID=Europe/Oslo:20240423T120000
DTSTAMP:20260423T110817
CREATED:20231127T173137Z
LAST-MODIFIED:20240111T095820Z
UID:1264-1713862800-1713873600@montessori-care.com
SUMMARY:GJØREGLEDEKURS FOR  PÅRØRENDE TIL PERSONER MED DEMENS 23. APRIL
DESCRIPTION:Vi har fått mange henvendelser fra pårørende som ønsker tips og ideer til hva de selv kan tilby av meningsfulle aktiviteter I hjemmet\, og hvordan de kan tilrettelegge for mest mulig selvstendighet. \nVi vil derfor holde et pårørendekurs fire ganger i løpet av våren 2024. Pårørende inviteres til våre lokaler der dere vil få mange ideer til ulike aktiviteter og roller som kan tilpasses personer med demens i forhold til mestrings- og ferdighetsnivå og som kan tilrettelegges utfra interesser.  Dere får også tips om hvordan å skilte og merke hjemme for å støtte størst mulig grad av selvstendighet og egenmestring. \nGJØREGLEDE-KURSET\nVarighet: 3 timer \nSted: Hovseter\, Oslo \nVelg den datoen som passer deg best: \n\n16. april (tir): kl. 12:00 – 15:00\n16. april (tir): kl.17:00 – 20:00\n23. april (tir): kl. 09:00 – 12:00\n\nEnkel servering. \nDere mottar en liten aktivitets-gave som dere kan ha glede av å bruke hjemme. \nKursavgift:\nkr 600.- \nEksklusivt kurs med begrenset antall plasser. \nTil Vipps betaling
URL:https://montessori-care.com/event/gjoregledekurs-for-parorende-til-personer-med-demens-23-april/
ATTACH;FMTTYPE=image/jpeg:https://montessori-care.com/wp-content/uploads/2023/05/Featured-image-2.jpg
END:VEVENT
BEGIN:VEVENT
DTSTART;TZID=Europe/Oslo:20240423T090000
DTEND;TZID=Europe/Oslo:20240423T120000
DTSTAMP:20260423T110817
CREATED:20231127T173137Z
LAST-MODIFIED:20240206T190635Z
UID:1389-1713862800-1713873600@montessori-care.com
SUMMARY:PROCEDURE COURSE FOR RELATIVES OF PERSONS WITH DEMENTIA 23. APRIL
DESCRIPTION:We have received many inquiries from relatives who want tips and ideas for what meaningful activities they can offer at home\, and how they can facilitate the greatest possible independence. \nWe will therefore hold a next-of-kin course four times during the spring of 2024. Relatives are invited to our premises where you will get many ideas for various activities and roles that can be adapted to people with dementia in relation to coping and skill levels and that can be arranged based on interests. You will also get tips on how to sign and mark at home to support the greatest possible degree of independence and self-mastery. \nTHE JOY DO-COURSE\nDuration: 3 hours \nLocation: Hovseter\, Oslo \nChoose the date that suits you best: \n\nApril 16th: at 12:00 – 15:00\nApril 16th: at 17:00 – 20:00\nApril 23rd at 09:00 – 12:00\n\nSimple serving. \nYou receive a small activity gift that you can enjoy using at home. \nCourse fee:\nNOK 600.- \nExclusive course with a limited number of places. \nTo Vipps payment
URL:https://montessori-care.com/event/procedure-course-for-relatives-of-persons-with-dementia-25-march/
ATTACH;FMTTYPE=image/jpeg:https://montessori-care.com/wp-content/uploads/2023/05/Featured-image-2.jpg
END:VEVENT
BEGIN:VEVENT
DTSTART;TZID=Europe/Oslo:20240416T120000
DTEND;TZID=Europe/Oslo:20240416T150000
DTSTAMP:20260423T110817
CREATED:20231127T172732Z
LAST-MODIFIED:20240411T122712Z
UID:1262-1713268800-1713279600@montessori-care.com
SUMMARY:AVLYST - GJØREGLEDEKURS FOR  PÅRØRENDE TIL PERSONER MED DEMENS 16. april
DESCRIPTION:[DISPLAY_ULTIMATE_SOCIAL_ICONS]\nVi har fått mange henvendelser fra pårørende som ønsker tips og ideer til hva de selv kan tilby av meningsfulle aktiviteter I hjemmet\, og hvordan de kan tilrettelegge for mest mulig selvstendighet. \nVi vil derfor holde et pårørendekurs fire ganger i løpet av våren 2024. Pårørende inviteres til våre lokaler der dere vil få mange ideer til ulike aktiviteter og roller som kan tilpasses personer med demens i forhold til mestrings- og ferdighetsnivå og som kan tilrettelegges utfra interesser.  Dere får også tips om hvordan å skilte og merke hjemme for å støtte størst mulig grad av selvstendighet og egenmestring. \nGJØREGLEDE-KURSET\nVarighet: 3 timer \nSted: Hovseter\, Oslo \nVelg den datoen som passer deg best: \n\n16. april (tir): kl. 12:00 – 15:00\n16. april (tir): kl.17:00 – 20:00\n23. april (tir): kl. 09:00 – 12:00\n\nEnkel servering. \nDere mottar en liten aktivitets-gave som dere kan ha glede av å bruke hjemme. \nKursavgift:\nkr 600.- \nDette kurset er avlyst. \n[DISPLAY_ULTIMATE_SOCIAL_ICONS]
URL:https://montessori-care.com/event/gjoregledekurs-for-parorende-til-personer-med-demens-16-april-2024/
ATTACH;FMTTYPE=image/jpeg:https://montessori-care.com/wp-content/uploads/2023/05/Featured-image-2.jpg
END:VEVENT
BEGIN:VEVENT
DTSTART;TZID=Europe/Oslo:20240416T120000
DTEND;TZID=Europe/Oslo:20240416T150000
DTSTAMP:20260423T110817
CREATED:20231127T172732Z
LAST-MODIFIED:20240111T121449Z
UID:1387-1713268800-1713279600@montessori-care.com
SUMMARY:PROCEDURE COURSE FOR RELATIVES OF PERSONS WITH DEMENTIA 16. April
DESCRIPTION:[DISPLAY_ULTIMATE_SOCIAL_ICONS]\nWe have received many inquiries from relatives who want tips and ideas for what meaningful activities they can offer at home\, and how they can facilitate the greatest possible independence. \nWe will therefore hold a next-of-kin course four times during the spring of 2024. Relatives are invited to our premises where you will get many ideas for various activities and roles that can be adapted to people with dementia in relation to coping and skill levels and that can be arranged based on interests. You will also get tips on how to sign and mark at home to support the greatest possible degree of independence and self-mastery. \nTHE JOY DO-COURSE\nDuration: 3 hours \nLocation: Hovseter\, Oslo \nChoose the date that suits you best: \n\nApril 16th: at 12:00 – 15:00\nApril 16th: at 17:00 – 20:00\nApril 23rd at 09:00 – 12:00\n\nSimple serving. \nYou receive a small activity gift that you can enjoy using at home. \nCourse fee:\nNOK 600.- \nExclusive course with a limited number of places. \nTo Vipps payment \n[DISPLAY_ULTIMATE_SOCIAL_ICONS]
URL:https://montessori-care.com/event/joy-do-for-the-relatives-of-persons-with-dementia-10-february/
ATTACH;FMTTYPE=image/jpeg:https://montessori-care.com/wp-content/uploads/2023/05/Featured-image-2.jpg
END:VEVENT
BEGIN:VEVENT
DTSTART;TZID=Europe/Oslo:20240409T090000
DTEND;TZID=Europe/Oslo:20240409T153000
DTSTAMP:20260423T110817
CREATED:20231127T173356Z
LAST-MODIFIED:20240313T115633Z
UID:1270-1712653200-1712676600@montessori-care.com
SUMMARY:FULLT - FOR DEG SOM JOBBER MED PERSONER MED DEMENS: GJØREGLEDE-KURS I BJØRVIKA 9. APRIL
DESCRIPTION:HVORDAN TILRETTELEGGE FOR SELVSTENDIGHET OG MENINGSFULLT ENGASJEMENT I HVERDAGEN\nTIRSDAG 9. APRIL KL. 09:00 – 15:30 \nHer er det mye nyttig å lære! Etter endt kurs vil du ha en verktøykasse full av gode ideer til hvordan du kan tilby tilrettelagte aktiviteter og daglige gjøremål på en enkel måte. \nMed denne kunnskapen kan du tilby personer med demens noe som er meningsfullt og som skaper et positivt engasjement i hverdagen\, i det du tar utgangspunkt i interesser\, ferdigheter og det som er. \nI verktøykassen vil du også ha mange gode ideer om hvordan du kan tilrettelegge for størst mulig grad av selvstendighet\, gjennom blant annet skilting\, instruksjoner og merking. Selvstendighet handler om verdighet og selvfølelse\, noe som det er viktig å få kjenne på i hverdagen! \nVelkommen til kurs! \nPris: kr 1500\,-\nDette kurset er dessverre fullt. Meld deg på vårt nyhetsbrev for å få beskjed om nye kurs.
URL:https://montessori-care.com/event/for-deg-som-jobber-med-personer-med-demens-gjoreglede-kurs-i-bjorvika-9-april/
CATEGORIES:Profesjonelt
ATTACH;FMTTYPE=image/jpeg:https://montessori-care.com/wp-content/uploads/2023/05/Featured-image-2.jpg
END:VEVENT
BEGIN:VEVENT
DTSTART;TZID=Europe/Oslo:20240409T090000
DTEND;TZID=Europe/Oslo:20240409T153000
DTSTAMP:20260423T110817
CREATED:20231127T173356Z
LAST-MODIFIED:20240313T115922Z
UID:1390-1712653200-1712676600@montessori-care.com
SUMMARY:FULL - FOR THOSE WORKING WITH PEOPLE WITH DEMENTIA: DO JOY COURSE IN BJØRVIKA APRIL 9TH APRIL
DESCRIPTION:HOW TO FACILITATE INDEPENDENCE AND MEANINGFUL ENGAGEMENT IN EVERYDAY LIFE\nTUESDAY 9. APRIL AT 09:00 – 15:30 \nThere is a lot to learn! After completing the course\, you will have a toolbox full of good ideas for how you can offer organized activities and daily tasks in a simple way. \nWith this knowledge\, you can provide individuals with dementia with something meaningful and create positive engagement in their daily lives by focusing on their interests\, skills\, and what matters to them. \nIn the toolbox\, you will also have many good ideas on how you can facilitate the greatest possible degree of independence\, through signs\, instructions and marking\, among other things. Independence is about dignity and self-esteem\, which is important to experience in everyday life! \nWelcome to the course! \nPrice: kr 1500\,-\nUnfortunately\, this course is fully booked. Sign up for our newsletter to receive notifications about new courses.
URL:https://montessori-care.com/event/for-those-who-work-with-people-with-dementia-gjoreglede-course-in-bjorvika-9-april/
CATEGORIES:Professionally
ATTACH;FMTTYPE=image/jpeg:https://montessori-care.com/wp-content/uploads/2023/05/Featured-image-2.jpg
END:VEVENT
END:VCALENDAR