BEGIN:VCALENDAR
VERSION:2.0
PRODID:-//Montessori Care - ECPv6.15.18//NONSGML v1.0//EN
CALSCALE:GREGORIAN
METHOD:PUBLISH
X-ORIGINAL-URL:https://montessori-care.com
X-WR-CALDESC:Events for Montessori Care
REFRESH-INTERVAL;VALUE=DURATION:PT1H
X-Robots-Tag:noindex
X-PUBLISHED-TTL:PT1H
BEGIN:VTIMEZONE
TZID:Europe/Oslo
BEGIN:DAYLIGHT
TZOFFSETFROM:+0100
TZOFFSETTO:+0200
TZNAME:CEST
DTSTART:20240331T010000
END:DAYLIGHT
BEGIN:STANDARD
TZOFFSETFROM:+0200
TZOFFSETTO:+0100
TZNAME:CET
DTSTART:20241027T010000
END:STANDARD
BEGIN:DAYLIGHT
TZOFFSETFROM:+0100
TZOFFSETTO:+0200
TZNAME:CEST
DTSTART:20250330T010000
END:DAYLIGHT
BEGIN:STANDARD
TZOFFSETFROM:+0200
TZOFFSETTO:+0100
TZNAME:CET
DTSTART:20251026T010000
END:STANDARD
BEGIN:DAYLIGHT
TZOFFSETFROM:+0100
TZOFFSETTO:+0200
TZNAME:CEST
DTSTART:20260329T010000
END:DAYLIGHT
BEGIN:STANDARD
TZOFFSETFROM:+0200
TZOFFSETTO:+0100
TZNAME:CET
DTSTART:20261025T010000
END:STANDARD
BEGIN:DAYLIGHT
TZOFFSETFROM:+0100
TZOFFSETTO:+0200
TZNAME:CEST
DTSTART:20270328T010000
END:DAYLIGHT
BEGIN:STANDARD
TZOFFSETFROM:+0200
TZOFFSETTO:+0100
TZNAME:CET
DTSTART:20271031T010000
END:STANDARD
END:VTIMEZONE
BEGIN:VEVENT
DTSTART;TZID=Europe/Oslo:20250429T093000
DTEND;TZID=Europe/Oslo:20250429T143000
DTSTAMP:20260423T210635
CREATED:20250221T152848Z
LAST-MODIFIED:20250325T213634Z
UID:2170-1745919000-1745937000@montessori-care.com
SUMMARY:Introduksjon til Montessori Miljøbehandling
DESCRIPTION:På kurset lærer du grunnpilarene i Montessori Miljøbehandling og hvordan du kan tilrettelegge for meningsfullt engasjement samt støtte selvstendighet hos personer med demens. \n\n\n\nDu vil få praktisk kunnskap om hvordan du kan utvikle roller\, aktiviteter\, lesemateriell og tilrettelegge for “wayfinding” – slik at personer med demens lettere kan orientere seg og mestre hverdagen. 🧩📖🚶‍♂️ \n\n\n\n✨ Mest av alt gir kurset omsorgspersoner en verktøykasse full av muligheter! ✨ \n\n\n\nDu lærer hvordan du kan hjelpe personer med demens til å delta i aktiviteter som matcher deres kognitive nivå og personlige interesser – ekte personsentrert omsorg i praksis! 🧡🧩 \n\n\n\n🎥 Vil du vite mer? Se dette intervjuet med kursholder Carolyn Magnussen eller utforsk inspirerende videoer fra institusjoner som allerede bruker Montessori Miljøbehandling i hverdagen. \n\n\n\n\n \n\n\n⚠️ Begrenset plass! Meld deg på nå! ✅tirsdag 29. april 2025\nkl. 09.30-14.30\nBerner-kjelleren på Litteraturhuset i Wergelandsveien 29\nKjøp billetter
URL:https://montessori-care.com/event/introduksjon-til-montessori-miljobehandling/
LOCATION:Litteraturhuset\, Wergelandsveien 29\, Oslo\, 0167
ATTACH;FMTTYPE=image/jpeg:https://montessori-care.com/wp-content/uploads/2025/02/Kursbillett-produktbilde.jpg
END:VEVENT
BEGIN:VEVENT
DTSTART;TZID=Europe/Oslo:20250429T093000
DTEND;TZID=Europe/Oslo:20250429T143000
DTSTAMP:20260423T210635
CREATED:20250221T152848Z
LAST-MODIFIED:20250303T223039Z
UID:2199-1745919000-1745937000@montessori-care.com
SUMMARY:Introduction to Montessori Environmental Therapy
DESCRIPTION:In this course\, you will learn the fundamental principles of Montessori Environmental Therapy and how to facilitate meaningful engagement while supporting independence in people with dementia. \n\n\nYou will gain practical knowledge on how to develop roles\, activities\, reading materials\, and “wayfinding” strategies—helping people with dementia navigate their surroundings and manage daily life more easily. 🧩📖🚶‍♂️  \n\n\n✨ Most importantly\, this course provides caregivers with a toolbox full of possibilities! ✨ \n\n\nYou will learn how to help people with dementia participate in activities that align with their cognitive level and personal interests—true person-centered care in action! 🧡🧩  \n\n\n🎥 Want to learn more? Watch this interview with course instructor Carolyn Magnussen\, or explore inspiring videos from institutions already using Montessori Environmental Therapy in their daily routines. \n\n\n\n \n\n⚠️ Space is limited! Sign up now ✅ \nTuesday 29. april 2025\nkl. 09.30-14.30 \nBuy tickets
URL:https://montessori-care.com/event/introduction-to-montessori-environmental-therapy/
LOCATION:Litteraturhuset\, Wergelandsveien 29\, Oslo\, 0167
ATTACH;FMTTYPE=image/jpeg:https://montessori-care.com/wp-content/uploads/2025/02/Kursbillett-produktbilde.jpg
END:VEVENT
BEGIN:VEVENT
DTSTART;TZID=Europe/Oslo:20250610T120000
DTEND;TZID=Europe/Oslo:20250610T160000
DTSTAMP:20260423T210635
CREATED:20250510T065600Z
LAST-MODIFIED:20250514T084706Z
UID:2370-1749556800-1749571200@montessori-care.com
SUMMARY:Workshop om Montessori Miljøbehandling 10. juni 2025 - Kun 300\,-
DESCRIPTION:Samme dag som boklanseringen\, inviterer vi til en «hands-on» workshop\, der du får prøve ut Montessori-materiell spesielt utviklet for personer med demens. \n🔹 Workshop: Kl. 12:00–16:00\n💰 Spesialpris: 300\,- (kaffe\, te\, pause-mat kan kjøpes i baren på første etasje om ønskelig)\nSted: Berner-kjelleren på Litteraturhuset\, Wergelandsveien 29\, Oslo\nGave: Alle som melder seg før 1. april går en gratis Montessori Miljøbehandling bok!! \nKan ikke vente til juni? I tillegg tilbyr vi en fordypende introduksjon til Montessori Miljøbehandling\, hvor du får grunnlaget for å lykkes i praksis. Dette kurset gir både en teoretisk innføring og hands-on erfaring med materiell. \nPåmelding\nØnsker du faktura? Send e-post til post@montessori-care.com
URL:https://montessori-care.com/event/workshop-om-montessori-miljobehandling-10-juni-2025-2/
ATTACH;FMTTYPE=image/jpeg:https://montessori-care.com/wp-content/uploads/2025/05/Montessori-Workshop.jpg
END:VEVENT
BEGIN:VEVENT
DTSTART;TZID=Europe/Oslo:20250610T170000
DTEND;TZID=Europe/Oslo:20250610T190000
DTSTAMP:20260423T210635
CREATED:20250510T074045Z
LAST-MODIFIED:20250514T084141Z
UID:2373-1749574800-1749582000@montessori-care.com
SUMMARY:Boklansering og workshop - 10. juni
DESCRIPTION:🎉 Endelig boklansering! Velkommen til feiring og faglig påfyll 📚✨ \nVi er utrolig glade for å endelig kunne invitere deg til boklanseringen av Montessori Miljøbehandling: Mening\, Mestring og Glede for Personer med Demens! 🥳📖 \n📍 Hvor? Berner-kjelleren\, Litteraturhuset\, Wergelandsveien 29\, Oslo\n📅 Når? Tirsdag 10. juni 2025\n🕔 Tid? Kl. 17:00–19:00 \nDette blir en kveld fylt med inspirasjon\, faglig påfyll og feiring av vårt arbeid med å bringe Montessori-metoden inn i omsorgen for personer med demens. 💙 \nMen det stopper ikke der! Samme dag inviterer vi til en “hands-on” workshop\, der du får prøve ut Montessori-materiell spesielt utviklet for personer med demens. \n🔹 Workshop: Kl. 12:00–16:00\n💰 Pris: 300\,- (kaffe\, te\, pausemat kan kjøpes i baren på første etasje) \nKjøp Workshop-plass\n  \nVi gleder oss til å dele denne reisen med deg – håper vi sees! 🥰 \nElisabeth og Carolyn
URL:https://montessori-care.com/event/boklansering-og-workshop-10-juni/
ATTACH;FMTTYPE=image/jpeg:https://montessori-care.com/wp-content/uploads/2025/03/9AED2A03-96B0-42C1-B25E-83BFB500115054.jpeg
END:VEVENT
BEGIN:VEVENT
DTSTART;TZID=Europe/Oslo:20260413T143000
DTEND;TZID=Europe/Oslo:20260413T170000
DTSTAMP:20260423T210635
CREATED:20260317T121024Z
LAST-MODIFIED:20260317T121024Z
UID:2658-1776090600-1776099600@montessori-care.com
SUMMARY:Webinar – Verdighet i hverdagen – 13. april
DESCRIPTION:
URL:https://montessori-care.com/event/webinar-verdighet-i-hverdagen-13-april/
ATTACH;FMTTYPE=image/jpeg:https://montessori-care.com/wp-content/uploads/2023/05/Featured-image-2.jpg
END:VEVENT
BEGIN:VEVENT
DTSTART;TZID=Europe/Oslo:20260519T093000
DTEND;TZID=Europe/Oslo:20260519T120000
DTSTAMP:20260423T210635
CREATED:20260317T121059Z
LAST-MODIFIED:20260317T121817Z
UID:2660-1779183000-1779192000@montessori-care.com
SUMMARY:Webinar – Verdighet i hverdagen – 19. mai
DESCRIPTION:
URL:https://montessori-care.com/event/webinar-verdighet-i-hverdagen-19-mai/
ATTACH;FMTTYPE=image/jpeg:https://montessori-care.com/wp-content/uploads/2023/05/Featured-image-2.jpg
END:VEVENT
BEGIN:VEVENT
DTSTART;TZID=Europe/Oslo:20260523T120000
DTEND;TZID=Europe/Oslo:20260523T143000
DTSTAMP:20260423T210635
CREATED:20260317T121138Z
LAST-MODIFIED:20260317T121138Z
UID:2662-1779537600-1779546600@montessori-care.com
SUMMARY:Webinar – Verdighet i hverdagen – 23. mai
DESCRIPTION:
URL:https://montessori-care.com/event/webinar-verdighet-i-hverdagen-23-mai/
ATTACH;FMTTYPE=image/jpeg:https://montessori-care.com/wp-content/uploads/2023/05/Featured-image-2.jpg
END:VEVENT
BEGIN:VEVENT
DTSTART;TZID=Europe/Oslo:20260603T183000
DTEND;TZID=Europe/Oslo:20260603T210000
DTSTAMP:20260423T210635
CREATED:20260317T121206Z
LAST-MODIFIED:20260317T121729Z
UID:2664-1780511400-1780520400@montessori-care.com
SUMMARY:Webinar – Verdighet i hverdagen – 03. juni
DESCRIPTION:
URL:https://montessori-care.com/event/webinar-verdighet-i-hverdagen-03-juni/
ATTACH;FMTTYPE=image/jpeg:https://montessori-care.com/wp-content/uploads/2023/05/Featured-image-2.jpg
END:VEVENT
BEGIN:VEVENT
DTSTART;TZID=Europe/Oslo:20260922T120000
DTEND;TZID=Europe/Oslo:20260923T150000
DTSTAMP:20260423T210635
CREATED:20260317T113948Z
LAST-MODIFIED:20260317T120920Z
UID:2654-1790078400-1790175600@montessori-care.com
SUMMARY:Sertifiseringskurs - Montessori for Demens\, Funksjonshemning og Eldre (MDDA)
DESCRIPTION:
URL:https://montessori-care.com/event/sertifiseringskurs-montessori-for-demens-funksjonshemning-og-eldre-mdda/
ATTACH;FMTTYPE=image/jpeg:https://montessori-care.com/wp-content/uploads/2023/05/Featured-image-2.jpg
END:VEVENT
END:VCALENDAR